BEGIN:VCALENDAR
VERSION:2.0
PRODID:-//Giles County, TN - ECPv6.15.15//NONSGML v1.0//EN
CALSCALE:GREGORIAN
METHOD:PUBLISH
X-WR-CALNAME:Giles County, TN
X-ORIGINAL-URL:https://gilescountytn.gov
X-WR-CALDESC:Events for Giles County, TN
REFRESH-INTERVAL;VALUE=DURATION:PT1H
X-Robots-Tag:noindex
X-PUBLISHED-TTL:PT1H
BEGIN:VTIMEZONE
TZID:America/Chicago
BEGIN:DAYLIGHT
TZOFFSETFROM:-0600
TZOFFSETTO:-0500
TZNAME:CDT
DTSTART:20250309T080000
END:DAYLIGHT
BEGIN:STANDARD
TZOFFSETFROM:-0500
TZOFFSETTO:-0600
TZNAME:CST
DTSTART:20251102T070000
END:STANDARD
BEGIN:DAYLIGHT
TZOFFSETFROM:-0600
TZOFFSETTO:-0500
TZNAME:CDT
DTSTART:20260308T080000
END:DAYLIGHT
BEGIN:STANDARD
TZOFFSETFROM:-0500
TZOFFSETTO:-0600
TZNAME:CST
DTSTART:20261101T070000
END:STANDARD
BEGIN:DAYLIGHT
TZOFFSETFROM:-0600
TZOFFSETTO:-0500
TZNAME:CDT
DTSTART:20270314T080000
END:DAYLIGHT
BEGIN:STANDARD
TZOFFSETFROM:-0500
TZOFFSETTO:-0600
TZNAME:CST
DTSTART:20271107T070000
END:STANDARD
END:VTIMEZONE
BEGIN:VEVENT
DTSTART;TZID=America/Chicago:20260203T170000
DTEND;TZID=America/Chicago:20260203T180000
DTSTAMP:20260421T052100
CREATED:20251118T174555Z
LAST-MODIFIED:20260127T225409Z
UID:16359-1770138000-1770141600@gilescountytn.gov
SUMMARY:Giles County Regional Planning Commission Meeting
DESCRIPTION:Agenda\nMeetings take place in the Basement Boardroom at the Courthouse Annex (Truist Bank Building)
URL:https://gilescountytn.gov/event/giles-county-regional-planning-commission-meeting-16/
END:VEVENT
BEGIN:VEVENT
DTSTART;TZID=America/Chicago:20260206T090000
DTEND;TZID=America/Chicago:20260206T090000
DTSTAMP:20260421T052100
CREATED:20260123T193253Z
LAST-MODIFIED:20260130T165423Z
UID:16617-1770368400-1770368400@gilescountytn.gov
SUMMARY:Commission Committees
DESCRIPTION:Updated Agenda
URL:https://gilescountytn.gov/event/commission-committees-4/
END:VEVENT
BEGIN:VEVENT
DTSTART;TZID=America/Chicago:20260210T090000
DTEND;TZID=America/Chicago:20260210T090000
DTSTAMP:20260421T052100
CREATED:20260123T193329Z
LAST-MODIFIED:20260123T232253Z
UID:16619-1770714000-1770714000@gilescountytn.gov
SUMMARY:Commission Committee
DESCRIPTION:Agenda
URL:https://gilescountytn.gov/event/commission-committee-5/
END:VEVENT
BEGIN:VEVENT
DTSTART;VALUE=DATE:20260216
DTEND;VALUE=DATE:20260217
DTSTAMP:20260421T052100
CREATED:20260106T004843Z
LAST-MODIFIED:20260106T004843Z
UID:16511-1771200000-1771286399@gilescountytn.gov
SUMMARY:All County Offices Closed - President's Day
DESCRIPTION:
URL:https://gilescountytn.gov/event/all-county-offices-closed-presidents-day-2/
END:VEVENT
BEGIN:VEVENT
DTSTART;TZID=America/Chicago:20260217T090000
DTEND;TZID=America/Chicago:20260217T103000
DTSTAMP:20260421T052100
CREATED:20260123T193527Z
LAST-MODIFIED:20260211T141854Z
UID:16621-1771318800-1771324200@gilescountytn.gov
SUMMARY:Regular Session Commission County Court
DESCRIPTION:Feb 26 Agenda
URL:https://gilescountytn.gov/event/regular-session-commission-county-court-13/
END:VEVENT
BEGIN:VEVENT
DTSTART;TZID=America/Chicago:20260220T090000
DTEND;TZID=America/Chicago:20260220T090000
DTSTAMP:20260421T052100
CREATED:20260207T010952Z
LAST-MODIFIED:20260207T010952Z
UID:16656-1771578000-1771578000@gilescountytn.gov
SUMMARY:Beer Board
DESCRIPTION:Meets in Annex basement boardroom
URL:https://gilescountytn.gov/event/beer-board-9/
END:VEVENT
END:VCALENDAR