BEGIN:VCALENDAR
VERSION:2.0
PRODID:-//Giles County, TN - ECPv6.15.15//NONSGML v1.0//EN
CALSCALE:GREGORIAN
METHOD:PUBLISH
X-ORIGINAL-URL:https://gilescountytn.gov
X-WR-CALDESC:Events for Giles County, TN
REFRESH-INTERVAL;VALUE=DURATION:PT1H
X-Robots-Tag:noindex
X-PUBLISHED-TTL:PT1H
BEGIN:VTIMEZONE
TZID:UTC
BEGIN:STANDARD
TZOFFSETFROM:+0000
TZOFFSETTO:+0000
TZNAME:UTC
DTSTART:20230101T000000
END:STANDARD
END:VTIMEZONE
BEGIN:VTIMEZONE
TZID:America/Chicago
BEGIN:DAYLIGHT
TZOFFSETFROM:-0600
TZOFFSETTO:-0500
TZNAME:CDT
DTSTART:20240310T080000
END:DAYLIGHT
BEGIN:STANDARD
TZOFFSETFROM:-0500
TZOFFSETTO:-0600
TZNAME:CST
DTSTART:20241103T070000
END:STANDARD
BEGIN:DAYLIGHT
TZOFFSETFROM:-0600
TZOFFSETTO:-0500
TZNAME:CDT
DTSTART:20250309T080000
END:DAYLIGHT
BEGIN:STANDARD
TZOFFSETFROM:-0500
TZOFFSETTO:-0600
TZNAME:CST
DTSTART:20251102T070000
END:STANDARD
BEGIN:DAYLIGHT
TZOFFSETFROM:-0600
TZOFFSETTO:-0500
TZNAME:CDT
DTSTART:20260308T080000
END:DAYLIGHT
BEGIN:STANDARD
TZOFFSETFROM:-0500
TZOFFSETTO:-0600
TZNAME:CST
DTSTART:20261101T070000
END:STANDARD
END:VTIMEZONE
BEGIN:VEVENT
DTSTART;VALUE=DATE:20241231
DTEND;VALUE=DATE:20250102
DTSTAMP:20260422T020547
CREATED:20240325T201632Z
LAST-MODIFIED:20240328T204824Z
UID:14390-1735603200-1735775999@gilescountytn.gov
SUMMARY:Holiday - New Year's\, Dec 31 - Jan 1\, 2024
DESCRIPTION:County offices will be closed.
URL:https://gilescountytn.gov/event/holiday-new-years/
END:VEVENT
BEGIN:VEVENT
DTSTART;TZID=America/Chicago:20250107T170000
DTEND;TZID=America/Chicago:20250107T180000
DTSTAMP:20260422T020547
CREATED:20241204T185322Z
LAST-MODIFIED:20241219T175736Z
UID:15410-1736269200-1736272800@gilescountytn.gov
SUMMARY:Giles County Regional Planning Commission
DESCRIPTION:Agenda
URL:https://gilescountytn.gov/event/giles-county-regional-planning-commission/
END:VEVENT
BEGIN:VEVENT
DTSTART;VALUE=DATE:20250110
DTEND;VALUE=DATE:20250111
DTSTAMP:20260422T020547
CREATED:20250108T155230Z
LAST-MODIFIED:20250108T155230Z
UID:15483-1736467200-1736553599@gilescountytn.gov
SUMMARY:Closure - Inclement Weather
DESCRIPTION:All county offices/facilities will be closed due to anticipated hazardous weather.
URL:https://gilescountytn.gov/event/closure-inclement-weather/
END:VEVENT
BEGIN:VEVENT
DTSTART;TZID=America/Chicago:20250114T090000
DTEND;TZID=America/Chicago:20250114T103000
DTSTAMP:20260422T020547
CREATED:20241219T174826Z
LAST-MODIFIED:20250108T154629Z
UID:15451-1736845200-1736850600@gilescountytn.gov
SUMMARY:Committee Meeting
DESCRIPTION:Budget & School Agenda \nBuilding Agenda \n 
URL:https://gilescountytn.gov/event/committee-meeting-2/
END:VEVENT
BEGIN:VEVENT
DTSTART;TZID=America/Chicago:20250120T080000
DTEND;TZID=America/Chicago:20250120T170000
DTSTAMP:20260422T020547
CREATED:20250128T141452Z
LAST-MODIFIED:20250128T141452Z
UID:15526-1737360000-1737392400@gilescountytn.gov
SUMMARY:All County Offices Closed - Martin Luther King Jr. Day
DESCRIPTION:
URL:https://gilescountytn.gov/event/all-county-offices-closed-martin-luther-king-jr-day/
END:VEVENT
BEGIN:VEVENT
DTSTART;TZID=America/Chicago:20250121T090000
DTEND;TZID=America/Chicago:20250121T103000
DTSTAMP:20260422T020547
CREATED:20241204T173903Z
LAST-MODIFIED:20250205T163623Z
UID:15386-1737450000-1737455400@gilescountytn.gov
SUMMARY:Regular Session Commission County Court
DESCRIPTION:The Commission meets in Chancery Court on the second floor of the Giles County Courthouse; meetings are open to the public.  Agenda and pertinent documents will be posted below within 48-hours of the meeting. Upon conclusion of Commission meetings\, all associated meeting documents are available through the Clerk’s office.
URL:https://gilescountytn.gov/event/regular-session-commission-county-court/
LOCATION:Giles County Courthouse\, 1 Public Square\, Pulaski\, TN\, 38478\, United States
END:VEVENT
BEGIN:VEVENT
DTSTART;TZID=America/Chicago:20250124T090000
DTEND;TZID=America/Chicago:20250124T100000
DTSTAMP:20260422T020547
CREATED:20250114T193244Z
LAST-MODIFIED:20250114T193244Z
UID:15488-1737709200-1737712800@gilescountytn.gov
SUMMARY:Beer Board
DESCRIPTION:
URL:https://gilescountytn.gov/event/beer-board/
END:VEVENT
END:VCALENDAR