BEGIN:VCALENDAR
VERSION:2.0
PRODID:-//Giles County, TN - ECPv6.15.15//NONSGML v1.0//EN
CALSCALE:GREGORIAN
METHOD:PUBLISH
X-WR-CALNAME:Giles County, TN
X-ORIGINAL-URL:https://gilescountytn.gov
X-WR-CALDESC:Events for Giles County, TN
REFRESH-INTERVAL;VALUE=DURATION:PT1H
X-Robots-Tag:noindex
X-PUBLISHED-TTL:PT1H
BEGIN:VTIMEZONE
TZID:UTC
BEGIN:STANDARD
TZOFFSETFROM:+0000
TZOFFSETTO:+0000
TZNAME:UTC
DTSTART:20230101T000000
END:STANDARD
END:VTIMEZONE
BEGIN:VTIMEZONE
TZID:America/Chicago
BEGIN:DAYLIGHT
TZOFFSETFROM:-0600
TZOFFSETTO:-0500
TZNAME:CDT
DTSTART:20230312T080000
END:DAYLIGHT
BEGIN:STANDARD
TZOFFSETFROM:-0500
TZOFFSETTO:-0600
TZNAME:CST
DTSTART:20231105T070000
END:STANDARD
BEGIN:DAYLIGHT
TZOFFSETFROM:-0600
TZOFFSETTO:-0500
TZNAME:CDT
DTSTART:20240310T080000
END:DAYLIGHT
BEGIN:STANDARD
TZOFFSETFROM:-0500
TZOFFSETTO:-0600
TZNAME:CST
DTSTART:20241103T070000
END:STANDARD
BEGIN:DAYLIGHT
TZOFFSETFROM:-0600
TZOFFSETTO:-0500
TZNAME:CDT
DTSTART:20250309T080000
END:DAYLIGHT
BEGIN:STANDARD
TZOFFSETFROM:-0500
TZOFFSETTO:-0600
TZNAME:CST
DTSTART:20251102T070000
END:STANDARD
END:VTIMEZONE
BEGIN:VEVENT
DTSTART;VALUE=DATE:20240902
DTEND;VALUE=DATE:20240903
DTSTAMP:20260422T084655
CREATED:20240325T201211Z
LAST-MODIFIED:20240328T204638Z
UID:14382-1725235200-1725321599@gilescountytn.gov
SUMMARY:Holiday - Labor Day\, Sept\, 2\, 2024
DESCRIPTION:County offices will be closed.
URL:https://gilescountytn.gov/event/holiday-labor-day/
END:VEVENT
BEGIN:VEVENT
DTSTART;TZID=America/Chicago:20240903T170000
DTEND;TZID=America/Chicago:20240903T170000
DTSTAMP:20260422T084655
CREATED:20240507T140521Z
LAST-MODIFIED:20240828T172720Z
UID:14824-1725382800-1725382800@gilescountytn.gov
SUMMARY:Giles County Regional Planning Commission
DESCRIPTION:Agenda
URL:https://gilescountytn.gov/event/giles-county-regional-planning-commission-meeting-4/
END:VEVENT
BEGIN:VEVENT
DTSTART;TZID=America/Chicago:20240904T090000
DTEND;TZID=America/Chicago:20240904T110000
DTSTAMP:20260422T084655
CREATED:20240805T203549Z
LAST-MODIFIED:20240806T133838Z
UID:15035-1725440400-1725447600@gilescountytn.gov
SUMMARY:Work Session
DESCRIPTION:Agenda
URL:https://gilescountytn.gov/event/work-session/
END:VEVENT
BEGIN:VEVENT
DTSTART;TZID=America/Chicago:20240906T090000
DTEND;TZID=America/Chicago:20240906T100000
DTSTAMP:20260422T084655
CREATED:20240830T145037Z
LAST-MODIFIED:20240830T145037Z
UID:15098-1725613200-1725616800@gilescountytn.gov
SUMMARY:Financial Management Committee
DESCRIPTION:Agenda
URL:https://gilescountytn.gov/event/financial-management-committee-2/
END:VEVENT
BEGIN:VEVENT
DTSTART;TZID=America/Chicago:20240906T100000
DTEND;TZID=America/Chicago:20240906T110000
DTSTAMP:20260422T084655
CREATED:20240830T145132Z
LAST-MODIFIED:20240830T145221Z
UID:15100-1725616800-1725620400@gilescountytn.gov
SUMMARY:School & Budget Committees
DESCRIPTION:Agenda
URL:https://gilescountytn.gov/event/school-budget-committees-4/
END:VEVENT
BEGIN:VEVENT
DTSTART;TZID=America/Chicago:20240910T160000
DTEND;TZID=America/Chicago:20240910T170000
DTSTAMP:20260422T084655
CREATED:20240808T181505Z
LAST-MODIFIED:20240830T162324Z
UID:15052-1725984000-1725987600@gilescountytn.gov
SUMMARY:Economic Development Work Group
DESCRIPTION:Agenda
URL:https://gilescountytn.gov/event/economic-development-work-group-3/
END:VEVENT
BEGIN:VEVENT
DTSTART;TZID=America/Chicago:20240916T170000
DTEND;TZID=America/Chicago:20240916T183000
DTSTAMP:20260422T084655
CREATED:20240408T143459Z
LAST-MODIFIED:20241017T194023Z
UID:14660-1726506000-1726511400@gilescountytn.gov
SUMMARY:Giles County Commission Meeting
DESCRIPTION:The Commission meets in Chancery Court on the second floor of the Giles County Courthouse; meetings are open to the public.  Agenda and pertinent documents will be posted below within 48-hours of the meeting. Upon conclusion of Commission meetings\, all associated meeting documents are available through the Clerk’s office. \n 
URL:https://gilescountytn.gov/event/giles-county-commission-meeting-8/
LOCATION:Giles County Courthouse\, 1 Public Square\, Pulaski\, TN\, 38478\, United States
END:VEVENT
BEGIN:VEVENT
DTSTART;TZID=America/Chicago:20240918T090000
DTEND;TZID=America/Chicago:20240918T090000
DTSTAMP:20260422T084655
CREATED:20240829T145649Z
LAST-MODIFIED:20240829T150425Z
UID:15090-1726650000-1726650000@gilescountytn.gov
SUMMARY:Public Notice - Sealed Bid - Giles County Sheriff Department HVAC
DESCRIPTION:Giles County Sheriff Department is accepting sealed bids for HVAC replacement. For specifications\, please contact Mary Taylor Hewitt at 931-363-5486 or email mthewitt@gilescountytn.gov. All bids must be received in the Office of Financial Management in the Giles County Courthouse Annex by 9:00 am\, Wednesday\, September 18\, 2024 at which time they will be publicly opened in the basement boardroom of the Giles County Annex. Any bid received after this time will not be opened. Must send three (3) copies of bid. \nBids may be sent by mail to P.O. Box 678\, Pulaski\, TN 38478 or delivered in person to 222 W Madison St\, 2nd Floor\, Pulaski\, TN 38478 and should have the following clearly visible on the outside envelope:​​​ \n  \n“Sealed Bid – Giles County Sheriff Department HVAC”. \nGiles County reserves the right to reject any and all bids. \nAll vendors must comply with State of Tennessee and Giles County procurement laws.
URL:https://gilescountytn.gov/event/sealed-bid-giles-county-sheriff-department-hvac/
END:VEVENT
BEGIN:VEVENT
DTSTART;TZID=America/Chicago:20240923T160000
DTEND;TZID=America/Chicago:20240923T170000
DTSTAMP:20260422T084655
CREATED:20240913T172900Z
LAST-MODIFIED:20240913T180210Z
UID:15128-1727107200-1727110800@gilescountytn.gov
SUMMARY:Economic Work Group
DESCRIPTION:Agenda
URL:https://gilescountytn.gov/event/economic-work-group/
END:VEVENT
BEGIN:VEVENT
DTSTART;TZID=America/Chicago:20240925T090000
DTEND;TZID=America/Chicago:20240925T103000
DTSTAMP:20260422T084655
CREATED:20240917T185728Z
LAST-MODIFIED:20240917T185851Z
UID:15140-1727254800-1727260200@gilescountytn.gov
SUMMARY:Property & Building Committee
DESCRIPTION:Agenda
URL:https://gilescountytn.gov/event/property-building-committee-2/
END:VEVENT
END:VCALENDAR