BEGIN:VCALENDAR
VERSION:2.0
PRODID:-//Giles County, TN - ECPv6.15.15//NONSGML v1.0//EN
CALSCALE:GREGORIAN
METHOD:PUBLISH
X-WR-CALNAME:Giles County, TN
X-ORIGINAL-URL:https://gilescountytn.gov
X-WR-CALDESC:Events for Giles County, TN
REFRESH-INTERVAL;VALUE=DURATION:PT1H
X-Robots-Tag:noindex
X-PUBLISHED-TTL:PT1H
BEGIN:VTIMEZONE
TZID:America/Chicago
BEGIN:DAYLIGHT
TZOFFSETFROM:-0600
TZOFFSETTO:-0500
TZNAME:CDT
DTSTART:20230312T080000
END:DAYLIGHT
BEGIN:STANDARD
TZOFFSETFROM:-0500
TZOFFSETTO:-0600
TZNAME:CST
DTSTART:20231105T070000
END:STANDARD
BEGIN:DAYLIGHT
TZOFFSETFROM:-0600
TZOFFSETTO:-0500
TZNAME:CDT
DTSTART:20240310T080000
END:DAYLIGHT
BEGIN:STANDARD
TZOFFSETFROM:-0500
TZOFFSETTO:-0600
TZNAME:CST
DTSTART:20241103T070000
END:STANDARD
BEGIN:DAYLIGHT
TZOFFSETFROM:-0600
TZOFFSETTO:-0500
TZNAME:CDT
DTSTART:20250309T080000
END:DAYLIGHT
BEGIN:STANDARD
TZOFFSETFROM:-0500
TZOFFSETTO:-0600
TZNAME:CST
DTSTART:20251102T070000
END:STANDARD
END:VTIMEZONE
BEGIN:VEVENT
DTSTART;TZID=America/Chicago:20240805T160000
DTEND;TZID=America/Chicago:20240805T170000
DTSTAMP:20260422T104459
CREATED:20240722T182131Z
LAST-MODIFIED:20240722T182131Z
UID:15003-1722873600-1722877200@gilescountytn.gov
SUMMARY:Economic Development Work Group
DESCRIPTION:Agenda \nMemo establishing work group
URL:https://gilescountytn.gov/event/economic-development-work-group/
END:VEVENT
BEGIN:VEVENT
DTSTART;TZID=America/Chicago:20240806T170000
DTEND;TZID=America/Chicago:20240806T170000
DTSTAMP:20260422T104459
CREATED:20240507T220040Z
LAST-MODIFIED:20240805T130631Z
UID:14822-1722963600-1722963600@gilescountytn.gov
SUMMARY:Giles County Regional Planning Commission
DESCRIPTION:Agenda
URL:https://gilescountytn.gov/event/giles-county-regional-planning-commission-meeting-3/
END:VEVENT
BEGIN:VEVENT
DTSTART;TZID=America/Chicago:20240809T090000
DTEND;TZID=America/Chicago:20240809T103000
DTSTAMP:20260422T104459
CREATED:20240726T165413Z
LAST-MODIFIED:20240726T165413Z
UID:15016-1723194000-1723199400@gilescountytn.gov
SUMMARY:School & Budget Committees
DESCRIPTION:Agenda
URL:https://gilescountytn.gov/event/school-budget-committees-3/
END:VEVENT
BEGIN:VEVENT
DTSTART;TZID=America/Chicago:20240812T160000
DTEND;TZID=America/Chicago:20240812T170000
DTSTAMP:20260422T104459
CREATED:20240801T134158Z
LAST-MODIFIED:20240801T134158Z
UID:15023-1723478400-1723482000@gilescountytn.gov
SUMMARY:Legislative Committee
DESCRIPTION:Agenda
URL:https://gilescountytn.gov/event/legislative-committee-2/
END:VEVENT
BEGIN:VEVENT
DTSTART;TZID=America/Chicago:20240819T170000
DTEND;TZID=America/Chicago:20240819T183000
DTSTAMP:20260422T104459
CREATED:20240408T143400Z
LAST-MODIFIED:20240910T132423Z
UID:14658-1724086800-1724092200@gilescountytn.gov
SUMMARY:Giles County Commission Meeting
DESCRIPTION:The Commission meets in Chancery Court on the second floor of the Giles County Courthouse; meetings are open to the public.  Agenda and pertinent documents will be posted below within 48-hours of the meeting. Upon conclusion of Commission meetings\, all associated meeting documents are available through the Clerk’s office.
URL:https://gilescountytn.gov/event/giles-county-commission-meeting-7/
LOCATION:Giles County Courthouse\, 1 Public Square\, Pulaski\, TN\, 38478\, United States
END:VEVENT
BEGIN:VEVENT
DTSTART;TZID=America/Chicago:20240826T160000
DTEND;TZID=America/Chicago:20240826T170000
DTSTAMP:20260422T104459
CREATED:20240808T180103Z
LAST-MODIFIED:20240808T181704Z
UID:15046-1724688000-1724691600@gilescountytn.gov
SUMMARY:Economic Development Work Group
DESCRIPTION:Agenda
URL:https://gilescountytn.gov/event/economic-development-work-group-2/
END:VEVENT
BEGIN:VEVENT
DTSTART;TZID=America/Chicago:20240827T080000
DTEND;TZID=America/Chicago:20240827T090000
DTSTAMP:20260422T104459
CREATED:20240814T183046Z
LAST-MODIFIED:20240814T183046Z
UID:15071-1724745600-1724749200@gilescountytn.gov
SUMMARY:Legislative Committee
DESCRIPTION:Agenda
URL:https://gilescountytn.gov/event/legislative-committee-3/
END:VEVENT
BEGIN:VEVENT
DTSTART;TZID=America/Chicago:20240827T090000
DTEND;TZID=America/Chicago:20240827T103000
DTSTAMP:20260422T104459
CREATED:20240806T183110Z
LAST-MODIFIED:20240814T143154Z
UID:15044-1724749200-1724754600@gilescountytn.gov
SUMMARY:Property & Building Committee
DESCRIPTION:Agenda
URL:https://gilescountytn.gov/event/property-building-committee/
END:VEVENT
END:VCALENDAR