BEGIN:VCALENDAR
VERSION:2.0
PRODID:-//Giles County, TN - ECPv6.15.15//NONSGML v1.0//EN
CALSCALE:GREGORIAN
METHOD:PUBLISH
X-WR-CALNAME:Giles County, TN
X-ORIGINAL-URL:https://gilescountytn.gov
X-WR-CALDESC:Events for Giles County, TN
REFRESH-INTERVAL;VALUE=DURATION:PT1H
X-Robots-Tag:noindex
X-PUBLISHED-TTL:PT1H
BEGIN:VTIMEZONE
TZID:America/Chicago
BEGIN:DAYLIGHT
TZOFFSETFROM:-0600
TZOFFSETTO:-0500
TZNAME:CDT
DTSTART:20240310T080000
END:DAYLIGHT
BEGIN:STANDARD
TZOFFSETFROM:-0500
TZOFFSETTO:-0600
TZNAME:CST
DTSTART:20241103T070000
END:STANDARD
BEGIN:DAYLIGHT
TZOFFSETFROM:-0600
TZOFFSETTO:-0500
TZNAME:CDT
DTSTART:20250309T080000
END:DAYLIGHT
BEGIN:STANDARD
TZOFFSETFROM:-0500
TZOFFSETTO:-0600
TZNAME:CST
DTSTART:20251102T070000
END:STANDARD
BEGIN:DAYLIGHT
TZOFFSETFROM:-0600
TZOFFSETTO:-0500
TZNAME:CDT
DTSTART:20260308T080000
END:DAYLIGHT
BEGIN:STANDARD
TZOFFSETFROM:-0500
TZOFFSETTO:-0600
TZNAME:CST
DTSTART:20261101T070000
END:STANDARD
BEGIN:DAYLIGHT
TZOFFSETFROM:-0600
TZOFFSETTO:-0500
TZNAME:CDT
DTSTART:20270314T080000
END:DAYLIGHT
BEGIN:STANDARD
TZOFFSETFROM:-0500
TZOFFSETTO:-0600
TZNAME:CST
DTSTART:20271107T070000
END:STANDARD
END:VTIMEZONE
BEGIN:VEVENT
DTSTART;TZID=America/Chicago:20260407T170000
DTEND;TZID=America/Chicago:20260407T180000
DTSTAMP:20260419T102716
CREATED:20260212T174137Z
LAST-MODIFIED:20260325T160757Z
UID:16694-1775581200-1775584800@gilescountytn.gov
SUMMARY:Regional Planning Commission Meeting
DESCRIPTION:Agenda \nPlease note that meeting location will be in the Giles County Courthouse\, Chancery Court (2nd floor)
URL:https://gilescountytn.gov/event/regional-planning-commission-meeting/
END:VEVENT
BEGIN:VEVENT
DTSTART;TZID=America/Chicago:20260403T080000
DTEND;TZID=America/Chicago:20260403T170000
DTSTAMP:20260419T102716
CREATED:20260212T141601Z
LAST-MODIFIED:20260212T141601Z
UID:16665-1775203200-1775235600@gilescountytn.gov
SUMMARY:Good Friday - All County Offices are closed
DESCRIPTION:
URL:https://gilescountytn.gov/event/good-friday-all-county-offices-are-closed/
END:VEVENT
BEGIN:VEVENT
DTSTART;TZID=America/Chicago:20260331T090000
DTEND;TZID=America/Chicago:20260331T090000
DTSTAMP:20260419T102716
CREATED:20260327T152500Z
LAST-MODIFIED:20260327T152500Z
UID:16876-1774947600-1774947600@gilescountytn.gov
SUMMARY:Local Emergency Planning Committee
DESCRIPTION:Giles County OEM LEPC (local emergency planning committee) meeting with Industry partners \nMeets at OEM.
URL:https://gilescountytn.gov/event/local-emergency-planning-committee/
END:VEVENT
BEGIN:VEVENT
DTSTART;TZID=America/Chicago:20260326T130000
DTEND;TZID=America/Chicago:20260326T130000
DTSTAMP:20260419T102716
CREATED:20260302T184028Z
LAST-MODIFIED:20260303T222747Z
UID:16794-1774530000-1774530000@gilescountytn.gov
SUMMARY:Airport Authority
DESCRIPTION:Agenda
URL:https://gilescountytn.gov/event/airport-authority/
END:VEVENT
BEGIN:VEVENT
DTSTART;TZID=America/Chicago:20260320T090000
DTEND;TZID=America/Chicago:20260320T090000
DTSTAMP:20260419T102716
CREATED:20260307T153256Z
LAST-MODIFIED:20260309T033005Z
UID:16819-1773997200-1773997200@gilescountytn.gov
SUMMARY:Agri-Park Board
DESCRIPTION:Meeting is held at the Agri Park. \nPlease note this is a not a county government meeting.  The Agri Park operates as an incorporated non-profit Board.
URL:https://gilescountytn.gov/event/agri-park-board-7/
END:VEVENT
BEGIN:VEVENT
DTSTART;TZID=America/Chicago:20260317T090000
DTEND;TZID=America/Chicago:20260317T090000
DTSTAMP:20260419T102716
CREATED:20260310T010407Z
LAST-MODIFIED:20260310T010407Z
UID:16828-1773738000-1773738000@gilescountytn.gov
SUMMARY:Public Records Committee
DESCRIPTION:Meets at Archives\, 211 S Cedar Lane
URL:https://gilescountytn.gov/event/public-records-committee/
END:VEVENT
BEGIN:VEVENT
DTSTART;TZID=America/Chicago:20260316T090000
DTEND;TZID=America/Chicago:20260316T100000
DTSTAMP:20260419T102716
CREATED:20260212T185703Z
LAST-MODIFIED:20260310T161344Z
UID:16716-1773651600-1773655200@gilescountytn.gov
SUMMARY:Regular Session Commission County Court
DESCRIPTION:March 16 Agenda
URL:https://gilescountytn.gov/event/regular-session-commission-county-court-14/
END:VEVENT
BEGIN:VEVENT
DTSTART;TZID=America/Chicago:20260306T090000
DTEND;TZID=America/Chicago:20260306T090000
DTSTAMP:20260419T102716
CREATED:20260220T172632Z
LAST-MODIFIED:20260225T012930Z
UID:16766-1772787600-1772787600@gilescountytn.gov
SUMMARY:Commission Committees
DESCRIPTION:Agenda
URL:https://gilescountytn.gov/event/commission-committees-5/
END:VEVENT
BEGIN:VEVENT
DTSTART;TZID=America/Chicago:20260305T090000
DTEND;TZID=America/Chicago:20260305T090000
DTSTAMP:20260419T102716
CREATED:20260207T011025Z
LAST-MODIFIED:20260207T011025Z
UID:16658-1772701200-1772701200@gilescountytn.gov
SUMMARY:Beer Board
DESCRIPTION:Meets in Annex basement boardroom
URL:https://gilescountytn.gov/event/beer-board-10/
END:VEVENT
BEGIN:VEVENT
DTSTART;TZID=America/Chicago:20260303T170000
DTEND;TZID=America/Chicago:20260303T180000
DTSTAMP:20260419T102716
CREATED:20251118T174736Z
LAST-MODIFIED:20260225T202959Z
UID:16361-1772557200-1772560800@gilescountytn.gov
SUMMARY:Giles County Regional Planning Commission Meeting
DESCRIPTION:Agenda \nMeetings take place in the Basement Boardroom at the Courthouse Annex (Truist Bank Building)
URL:https://gilescountytn.gov/event/giles-county-regional-planning-commission-meeting-17/
END:VEVENT
BEGIN:VEVENT
DTSTART;TZID=America/Chicago:20260303T090000
DTEND;TZID=America/Chicago:20260303T090000
DTSTAMP:20260419T102716
CREATED:20260219T140513Z
LAST-MODIFIED:20260219T140513Z
UID:16755-1772528400-1772528400@gilescountytn.gov
SUMMARY:Commission Committee
DESCRIPTION:Agenda
URL:https://gilescountytn.gov/event/commission-committee-6/
END:VEVENT
BEGIN:VEVENT
DTSTART;TZID=America/Chicago:20260220T090000
DTEND;TZID=America/Chicago:20260220T090000
DTSTAMP:20260419T102716
CREATED:20260207T010952Z
LAST-MODIFIED:20260207T010952Z
UID:16656-1771578000-1771578000@gilescountytn.gov
SUMMARY:Beer Board
DESCRIPTION:Meets in Annex basement boardroom
URL:https://gilescountytn.gov/event/beer-board-9/
END:VEVENT
BEGIN:VEVENT
DTSTART;TZID=America/Chicago:20260217T090000
DTEND;TZID=America/Chicago:20260217T103000
DTSTAMP:20260419T102716
CREATED:20260123T193527Z
LAST-MODIFIED:20260211T141854Z
UID:16621-1771318800-1771324200@gilescountytn.gov
SUMMARY:Regular Session Commission County Court
DESCRIPTION:Feb 26 Agenda
URL:https://gilescountytn.gov/event/regular-session-commission-county-court-13/
END:VEVENT
BEGIN:VEVENT
DTSTART;VALUE=DATE:20260216
DTEND;VALUE=DATE:20260217
DTSTAMP:20260419T102716
CREATED:20260106T004843Z
LAST-MODIFIED:20260106T004843Z
UID:16511-1771200000-1771286399@gilescountytn.gov
SUMMARY:All County Offices Closed - President's Day
DESCRIPTION:
URL:https://gilescountytn.gov/event/all-county-offices-closed-presidents-day-2/
END:VEVENT
BEGIN:VEVENT
DTSTART;TZID=America/Chicago:20260210T090000
DTEND;TZID=America/Chicago:20260210T090000
DTSTAMP:20260419T102716
CREATED:20260123T193329Z
LAST-MODIFIED:20260123T232253Z
UID:16619-1770714000-1770714000@gilescountytn.gov
SUMMARY:Commission Committee
DESCRIPTION:Agenda
URL:https://gilescountytn.gov/event/commission-committee-5/
END:VEVENT
BEGIN:VEVENT
DTSTART;TZID=America/Chicago:20260206T090000
DTEND;TZID=America/Chicago:20260206T090000
DTSTAMP:20260419T102716
CREATED:20260123T193253Z
LAST-MODIFIED:20260130T165423Z
UID:16617-1770368400-1770368400@gilescountytn.gov
SUMMARY:Commission Committees
DESCRIPTION:Updated Agenda
URL:https://gilescountytn.gov/event/commission-committees-4/
END:VEVENT
BEGIN:VEVENT
DTSTART;TZID=America/Chicago:20260203T170000
DTEND;TZID=America/Chicago:20260203T180000
DTSTAMP:20260419T102716
CREATED:20251118T174555Z
LAST-MODIFIED:20260127T225409Z
UID:16359-1770138000-1770141600@gilescountytn.gov
SUMMARY:Giles County Regional Planning Commission Meeting
DESCRIPTION:Agenda\nMeetings take place in the Basement Boardroom at the Courthouse Annex (Truist Bank Building)
URL:https://gilescountytn.gov/event/giles-county-regional-planning-commission-meeting-16/
END:VEVENT
BEGIN:VEVENT
DTSTART;TZID=America/Chicago:20260127T090000
DTEND;TZID=America/Chicago:20260127T090000
DTSTAMP:20260419T102716
CREATED:20260115T182021Z
LAST-MODIFIED:20260115T182021Z
UID:16600-1769504400-1769504400@gilescountytn.gov
SUMMARY:Beer Board
DESCRIPTION:Meets in the Annex Basement Boardroom.
URL:https://gilescountytn.gov/event/beer-board-8/
END:VEVENT
BEGIN:VEVENT
DTSTART;TZID=America/Chicago:20260122T090000
DTEND;TZID=America/Chicago:20260122T090000
DTSTAMP:20260419T102716
CREATED:20260107T173339Z
LAST-MODIFIED:20260107T173447Z
UID:16518-1769072400-1769072400@gilescountytn.gov
SUMMARY:Ethics Committee
DESCRIPTION:Agenda
URL:https://gilescountytn.gov/event/ethics-committee-2/
END:VEVENT
BEGIN:VEVENT
DTSTART;TZID=America/Chicago:20260120T090000
DTEND;TZID=America/Chicago:20260120T103000
DTSTAMP:20260419T102716
CREATED:20251229T195521Z
LAST-MODIFIED:20260116T143253Z
UID:16489-1768899600-1768905000@gilescountytn.gov
SUMMARY:Regular Session Commission County Court
DESCRIPTION:Agenda \nThe Clerk’s scanner is currently inoperable\, thus no electronic attachments are available at this time.
URL:https://gilescountytn.gov/event/regular-session-commission-county-court-12/
END:VEVENT
BEGIN:VEVENT
DTSTART;VALUE=DATE:20260119
DTEND;VALUE=DATE:20260120
DTSTAMP:20260419T102716
CREATED:20260106T004727Z
LAST-MODIFIED:20260106T004727Z
UID:16509-1768780800-1768867199@gilescountytn.gov
SUMMARY:All County Offices Closed - MLK Day
DESCRIPTION:
URL:https://gilescountytn.gov/event/all-county-offices-closed-mlk-day/
END:VEVENT
BEGIN:VEVENT
DTSTART;TZID=America/Chicago:20260116T090000
DTEND;TZID=America/Chicago:20260116T090000
DTSTAMP:20260419T102716
CREATED:20251215T230104Z
LAST-MODIFIED:20251215T230104Z
UID:16477-1768554000-1768554000@gilescountytn.gov
SUMMARY:Agri-Park Board
DESCRIPTION:Meeting is held at the Agri Park. \nPlease note this is a not a county government meeting.  The Agri Park operates as an incorporated non-profit Board.
URL:https://gilescountytn.gov/event/agri-park-board-6/
END:VEVENT
BEGIN:VEVENT
DTSTART;TZID=America/Chicago:20260115T090000
DTEND;TZID=America/Chicago:20260115T090000
DTSTAMP:20260419T102716
CREATED:20260105T224255Z
LAST-MODIFIED:20260105T224255Z
UID:16506-1768467600-1768467600@gilescountytn.gov
SUMMARY:Financial Management Committee
DESCRIPTION:Agenda
URL:https://gilescountytn.gov/event/financial-management-committee-7/
END:VEVENT
BEGIN:VEVENT
DTSTART;TZID=America/Chicago:20260112T090000
DTEND;TZID=America/Chicago:20260112T090000
DTSTAMP:20260419T102716
CREATED:20251230T232455Z
LAST-MODIFIED:20260107T012052Z
UID:16492-1768208400-1768208400@gilescountytn.gov
SUMMARY:Commission Committees
DESCRIPTION:School Agenda \nBudget Agenda \nPublic Safety Agenda
URL:https://gilescountytn.gov/event/commission-committees-3/
END:VEVENT
BEGIN:VEVENT
DTSTART;TZID=America/Chicago:20260106T170000
DTEND;TZID=America/Chicago:20260106T180000
DTSTAMP:20260419T102716
CREATED:20251118T174324Z
LAST-MODIFIED:20260102T024358Z
UID:16357-1767718800-1767722400@gilescountytn.gov
SUMMARY:Giles County Regional Planning Commission Meeting
DESCRIPTION:Meetings take place in the Basement Boardroom at the Courthouse Annex (Truist Bank Building) \nAgenda
URL:https://gilescountytn.gov/event/giles-county-regional-planning-commission-meeting-15/
END:VEVENT
BEGIN:VEVENT
DTSTART;TZID=America/Chicago:20260101T080000
DTEND;TZID=America/Chicago:20260101T170000
DTSTAMP:20260419T102716
CREATED:20250128T145508Z
LAST-MODIFIED:20250128T145508Z
UID:15554-1767254400-1767286800@gilescountytn.gov
SUMMARY:All County Offices Closed - New Year's Day
DESCRIPTION:
URL:https://gilescountytn.gov/event/all-county-offices-closed-new-years-day/
END:VEVENT
BEGIN:VEVENT
DTSTART;TZID=America/Chicago:20251231T080000
DTEND;TZID=America/Chicago:20251231T170000
DTSTAMP:20260419T102716
CREATED:20250128T142814Z
LAST-MODIFIED:20250128T142814Z
UID:15552-1767168000-1767200400@gilescountytn.gov
SUMMARY:All County Offices Closed - New Year's Eve
DESCRIPTION:
URL:https://gilescountytn.gov/event/all-county-offices-closed-new-years-eve/
END:VEVENT
BEGIN:VEVENT
DTSTART;TZID=America/Chicago:20251226T080000
DTEND;TZID=America/Chicago:20251226T170000
DTSTAMP:20260419T102716
CREATED:20250128T142727Z
LAST-MODIFIED:20250128T142727Z
UID:15550-1766736000-1766768400@gilescountytn.gov
SUMMARY:All County Offices Closed - Day after Christmas Day
DESCRIPTION:
URL:https://gilescountytn.gov/event/all-county-offices-closed-day-after-christmas-day/
END:VEVENT
BEGIN:VEVENT
DTSTART;TZID=America/Chicago:20251225T080000
DTEND;TZID=America/Chicago:20251225T170000
DTSTAMP:20260419T102716
CREATED:20250128T142636Z
LAST-MODIFIED:20250128T142636Z
UID:15548-1766649600-1766682000@gilescountytn.gov
SUMMARY:All County Offices Closed - Christmas Day
DESCRIPTION:
URL:https://gilescountytn.gov/event/all-county-offices-closed-christmas-day/
END:VEVENT
BEGIN:VEVENT
DTSTART;TZID=America/Chicago:20251224T080000
DTEND;TZID=America/Chicago:20251224T170000
DTSTAMP:20260419T102716
CREATED:20250128T142558Z
LAST-MODIFIED:20250128T142558Z
UID:15546-1766563200-1766595600@gilescountytn.gov
SUMMARY:All County Offices Closed - Christmas Eve
DESCRIPTION:
URL:https://gilescountytn.gov/event/all-county-offices-closed-christmas-eve/
END:VEVENT
END:VCALENDAR