BEGIN:VCALENDAR
VERSION:2.0
PRODID:-//Giles County, TN - ECPv6.15.15//NONSGML v1.0//EN
CALSCALE:GREGORIAN
METHOD:PUBLISH
X-ORIGINAL-URL:https://gilescountytn.gov
X-WR-CALDESC:Events for Giles County, TN
REFRESH-INTERVAL;VALUE=DURATION:PT1H
X-Robots-Tag:noindex
X-PUBLISHED-TTL:PT1H
BEGIN:VTIMEZONE
TZID:America/Chicago
BEGIN:DAYLIGHT
TZOFFSETFROM:-0600
TZOFFSETTO:-0500
TZNAME:CDT
DTSTART:20240310T080000
END:DAYLIGHT
BEGIN:STANDARD
TZOFFSETFROM:-0500
TZOFFSETTO:-0600
TZNAME:CST
DTSTART:20241103T070000
END:STANDARD
BEGIN:DAYLIGHT
TZOFFSETFROM:-0600
TZOFFSETTO:-0500
TZNAME:CDT
DTSTART:20250309T080000
END:DAYLIGHT
BEGIN:STANDARD
TZOFFSETFROM:-0500
TZOFFSETTO:-0600
TZNAME:CST
DTSTART:20251102T070000
END:STANDARD
BEGIN:DAYLIGHT
TZOFFSETFROM:-0600
TZOFFSETTO:-0500
TZNAME:CDT
DTSTART:20260308T080000
END:DAYLIGHT
BEGIN:STANDARD
TZOFFSETFROM:-0500
TZOFFSETTO:-0600
TZNAME:CST
DTSTART:20261101T070000
END:STANDARD
END:VTIMEZONE
BEGIN:VEVENT
DTSTART;TZID=America/Chicago:20250121T090000
DTEND;TZID=America/Chicago:20250121T103000
DTSTAMP:20260422T035541
CREATED:20241204T173903Z
LAST-MODIFIED:20250205T163623Z
UID:15386-1737450000-1737455400@gilescountytn.gov
SUMMARY:Regular Session Commission County Court
DESCRIPTION:The Commission meets in Chancery Court on the second floor of the Giles County Courthouse; meetings are open to the public.  Agenda and pertinent documents will be posted below within 48-hours of the meeting. Upon conclusion of Commission meetings\, all associated meeting documents are available through the Clerk’s office.
URL:https://gilescountytn.gov/event/regular-session-commission-county-court/
LOCATION:Giles County Courthouse\, 1 Public Square\, Pulaski\, TN\, 38478\, United States
END:VEVENT
END:VCALENDAR