BEGIN:VCALENDAR
VERSION:2.0
PRODID:-//Giles County, TN - ECPv6.15.15//NONSGML v1.0//EN
CALSCALE:GREGORIAN
METHOD:PUBLISH
X-WR-CALNAME:Giles County, TN
X-ORIGINAL-URL:https://gilescountytn.gov
X-WR-CALDESC:Events for Giles County, TN
REFRESH-INTERVAL;VALUE=DURATION:PT1H
X-Robots-Tag:noindex
X-PUBLISHED-TTL:PT1H
BEGIN:VTIMEZONE
TZID:America/Chicago
BEGIN:DAYLIGHT
TZOFFSETFROM:-0600
TZOFFSETTO:-0500
TZNAME:CDT
DTSTART:20240310T080000
END:DAYLIGHT
BEGIN:STANDARD
TZOFFSETFROM:-0500
TZOFFSETTO:-0600
TZNAME:CST
DTSTART:20241103T070000
END:STANDARD
BEGIN:DAYLIGHT
TZOFFSETFROM:-0600
TZOFFSETTO:-0500
TZNAME:CDT
DTSTART:20250309T080000
END:DAYLIGHT
BEGIN:STANDARD
TZOFFSETFROM:-0500
TZOFFSETTO:-0600
TZNAME:CST
DTSTART:20251102T070000
END:STANDARD
BEGIN:DAYLIGHT
TZOFFSETFROM:-0600
TZOFFSETTO:-0500
TZNAME:CDT
DTSTART:20260308T080000
END:DAYLIGHT
BEGIN:STANDARD
TZOFFSETFROM:-0500
TZOFFSETTO:-0600
TZNAME:CST
DTSTART:20261101T070000
END:STANDARD
END:VTIMEZONE
BEGIN:VEVENT
DTSTART;TZID=America/Chicago:20250120T080000
DTEND;TZID=America/Chicago:20250120T170000
DTSTAMP:20260422T035251
CREATED:20250128T141452Z
LAST-MODIFIED:20250128T141452Z
UID:15526-1737360000-1737392400@gilescountytn.gov
SUMMARY:All County Offices Closed - Martin Luther King Jr. Day
DESCRIPTION:
URL:https://gilescountytn.gov/event/all-county-offices-closed-martin-luther-king-jr-day/
END:VEVENT
END:VCALENDAR