BEGIN:VCALENDAR
VERSION:2.0
PRODID:-//Giles County, TN - ECPv6.15.15//NONSGML v1.0//EN
CALSCALE:GREGORIAN
METHOD:PUBLISH
X-WR-CALNAME:Giles County, TN
X-ORIGINAL-URL:https://gilescountytn.gov
X-WR-CALDESC:Events for Giles County, TN
REFRESH-INTERVAL;VALUE=DURATION:PT1H
X-Robots-Tag:noindex
X-PUBLISHED-TTL:PT1H
BEGIN:VTIMEZONE
TZID:UTC
BEGIN:STANDARD
TZOFFSETFROM:+0000
TZOFFSETTO:+0000
TZNAME:UTC
DTSTART:20230101T000000
END:STANDARD
END:VTIMEZONE
BEGIN:VEVENT
DTSTART;VALUE=DATE:20241231
DTEND;VALUE=DATE:20250102
DTSTAMP:20260422T035324
CREATED:20240325T201632Z
LAST-MODIFIED:20240328T204824Z
UID:14390-1735603200-1735775999@gilescountytn.gov
SUMMARY:Holiday - New Year's\, Dec 31 - Jan 1\, 2024
DESCRIPTION:County offices will be closed.
URL:https://gilescountytn.gov/event/holiday-new-years/
END:VEVENT
END:VCALENDAR